BEGIN:VCALENDAR
VERSION:2.0
PRODID:-//La Puente - ECPv6.15.20//NONSGML v1.0//EN
CALSCALE:GREGORIAN
METHOD:PUBLISH
X-WR-CALNAME:La Puente
X-ORIGINAL-URL:https://lapuentehome.org
X-WR-CALDESC:Events for La Puente
REFRESH-INTERVAL;VALUE=DURATION:PT1H
X-Robots-Tag:noindex
X-PUBLISHED-TTL:PT1H
BEGIN:VTIMEZONE
TZID:America/Denver
BEGIN:DAYLIGHT
TZOFFSETFROM:-0700
TZOFFSETTO:-0600
TZNAME:MDT
DTSTART:20210314T090000
END:DAYLIGHT
BEGIN:STANDARD
TZOFFSETFROM:-0600
TZOFFSETTO:-0700
TZNAME:MST
DTSTART:20211107T080000
END:STANDARD
BEGIN:DAYLIGHT
TZOFFSETFROM:-0700
TZOFFSETTO:-0600
TZNAME:MDT
DTSTART:20220313T090000
END:DAYLIGHT
BEGIN:STANDARD
TZOFFSETFROM:-0600
TZOFFSETTO:-0700
TZNAME:MST
DTSTART:20221106T080000
END:STANDARD
BEGIN:DAYLIGHT
TZOFFSETFROM:-0700
TZOFFSETTO:-0600
TZNAME:MDT
DTSTART:20230312T090000
END:DAYLIGHT
BEGIN:STANDARD
TZOFFSETFROM:-0600
TZOFFSETTO:-0700
TZNAME:MST
DTSTART:20231105T080000
END:STANDARD
END:VTIMEZONE
BEGIN:VEVENT
DTSTART;TZID=America/Denver:20221217T120000
DTEND;TZID=America/Denver:20221217T140000
DTSTAMP:20260424T055130
CREATED:20221116T224928Z
LAST-MODIFIED:20221121T183954Z
UID:8918-1671278400-1671285600@lapuentehome.org
SUMMARY:La Puente's Community Christmas Party 2022
DESCRIPTION:The holiday season is upon us\, which entails peace\, goodwill\, and community love. To celebrate\, La Puente is hosting the annual Christmas Party to spread the holiday cheer. \nThis party is an outdoor drive-thru and is taking place on December 17th from 12-2PM at the Alamosa Elementary School. Everyone is welcome to enjoy the Winter Wonderland with live music\, Santa\, and so much more. We are continuing to give every attendee a gift too\, and we are so excited to continue this on. \nIn order to continue this love focused tradition we are asking for your support for Christmas gifts. We are also looking for monetary donation\, unwrapped physical gifts (of a $20 value)\, and wrapping supplies. All donations will go towards gifts\, wrapping supplies\, and more to create the Christmas magic. \nFor more information\, contact Nicole Rodriguez at 719-589-5909 ext. 253 or email community.edu@lapuente.net
URL:https://lapuentehome.org/lpevent/lpchristmasparty2022/
LOCATION:Alamosa Elementary School
ATTACH;FMTTYPE=image/png:https://lapuentehome.org/wp-content/uploads/2022/11/Christmas-Marketing.png
END:VEVENT
END:VCALENDAR