BEGIN:VCALENDAR
VERSION:2.0
PRODID:-//La Puente - ECPv6.15.20//NONSGML v1.0//EN
CALSCALE:GREGORIAN
METHOD:PUBLISH
X-WR-CALNAME:La Puente
X-ORIGINAL-URL:https://lapuentehome.org
X-WR-CALDESC:Events for La Puente
REFRESH-INTERVAL;VALUE=DURATION:PT1H
X-Robots-Tag:noindex
X-PUBLISHED-TTL:PT1H
BEGIN:VTIMEZONE
TZID:America/Denver
BEGIN:DAYLIGHT
TZOFFSETFROM:-0700
TZOFFSETTO:-0600
TZNAME:MDT
DTSTART:20200308T090000
END:DAYLIGHT
BEGIN:STANDARD
TZOFFSETFROM:-0600
TZOFFSETTO:-0700
TZNAME:MST
DTSTART:20201101T080000
END:STANDARD
BEGIN:DAYLIGHT
TZOFFSETFROM:-0700
TZOFFSETTO:-0600
TZNAME:MDT
DTSTART:20210314T090000
END:DAYLIGHT
BEGIN:STANDARD
TZOFFSETFROM:-0600
TZOFFSETTO:-0700
TZNAME:MST
DTSTART:20211107T080000
END:STANDARD
BEGIN:DAYLIGHT
TZOFFSETFROM:-0700
TZOFFSETTO:-0600
TZNAME:MDT
DTSTART:20220313T090000
END:DAYLIGHT
BEGIN:STANDARD
TZOFFSETFROM:-0600
TZOFFSETTO:-0700
TZNAME:MST
DTSTART:20221106T080000
END:STANDARD
END:VTIMEZONE
BEGIN:VEVENT
DTSTART;TZID=America/Denver:20211118T120000
DTEND;TZID=America/Denver:20211118T150000
DTSTAMP:20260425T043211
CREATED:20211117T212621Z
LAST-MODIFIED:20211129T031513Z
UID:7694-1637236800-1637247600@lapuentehome.org
SUMMARY:La Puente's Community Christmas Party
DESCRIPTION:La Puente’s annual Christmas Party is an event that brings the community together to celebrate a season of giving and togetherness. This year\, We are bringing all the magic of Christmas outside! Join us for an outdoor drive-thru event on December 18th from 12-3. Location TBD. Guests will enjoy a winter wonderland drive-thru experience with decorations\, music\, hot coco\, Santa & gifts! COVID safety Precautions will be in place to protect guests and volunteers.\n\nWe are hoping to give out 800 presents this year\, but we can’t do that without the community’s help. To keep within COVID protocols we will not be taking physical gift donations this year. We will however accept wrapping supplies or monetary donations for gifts. All donations made to the Christmas Party will go towards gifts\, wrapping supplies\, and more to make the event as magical as possible.\n\nFor more information contact Nicole Rodriguez at 719-589-5909 Ext. 253 or email community.edu@lapuente.net
URL:https://lapuentehome.org/lpevent/lpchristmasparty/
ATTACH;FMTTYPE=image/jpeg:https://lapuentehome.org/wp-content/uploads/2021/11/DSC_1178-scaled.jpg
END:VEVENT
END:VCALENDAR