BEGIN:VCALENDAR
VERSION:2.0
PRODID:-//La Puente - ECPv6.15.20//NONSGML v1.0//EN
CALSCALE:GREGORIAN
METHOD:PUBLISH
X-WR-CALNAME:La Puente
X-ORIGINAL-URL:https://lapuentehome.org
X-WR-CALDESC:Events for La Puente
REFRESH-INTERVAL;VALUE=DURATION:PT1H
X-Robots-Tag:noindex
X-PUBLISHED-TTL:PT1H
BEGIN:VTIMEZONE
TZID:America/Denver
BEGIN:DAYLIGHT
TZOFFSETFROM:-0700
TZOFFSETTO:-0600
TZNAME:MDT
DTSTART:20200308T090000
END:DAYLIGHT
BEGIN:STANDARD
TZOFFSETFROM:-0600
TZOFFSETTO:-0700
TZNAME:MST
DTSTART:20201101T080000
END:STANDARD
BEGIN:DAYLIGHT
TZOFFSETFROM:-0700
TZOFFSETTO:-0600
TZNAME:MDT
DTSTART:20210314T090000
END:DAYLIGHT
BEGIN:STANDARD
TZOFFSETFROM:-0600
TZOFFSETTO:-0700
TZNAME:MST
DTSTART:20211107T080000
END:STANDARD
BEGIN:DAYLIGHT
TZOFFSETFROM:-0700
TZOFFSETTO:-0600
TZNAME:MDT
DTSTART:20220313T090000
END:DAYLIGHT
BEGIN:STANDARD
TZOFFSETFROM:-0600
TZOFFSETTO:-0700
TZNAME:MST
DTSTART:20221106T080000
END:STANDARD
END:VTIMEZONE
BEGIN:VEVENT
DTSTART;TZID=America/Denver:20211112T070000
DTEND;TZID=America/Denver:20211129T170000
DTSTAMP:20260422T000537
CREATED:20211105T204847Z
LAST-MODIFIED:20211109T195634Z
UID:7480-1636700400-1638205200@lapuentehome.org
SUMMARY:PALS Art Show 2021
DESCRIPTION:Starting November 12th and running through the end of the month\, original art created by kids in our PALS children’s program will be on sale at Milagros Coffee House! All pieces of art are certified originals and cost $10 per piece. All of the proceeds go directly to the artists for them to use as they please during a group shopping spree. \n 
URL:https://lapuentehome.org/lpevent/pals-art-show-2021/
LOCATION:Milagros Coffee House\, 529 Main St.\, Alamosa\, 81101\, United States
ATTACH;FMTTYPE=image/jpeg:https://lapuentehome.org/wp-content/uploads/2021/11/flyer3NV.jpg
END:VEVENT
BEGIN:VEVENT
DTSTART;TZID=America/Denver:20211111T080000
DTEND;TZID=America/Denver:20211125T170000
DTSTAMP:20260422T000537
CREATED:20211111T165407Z
LAST-MODIFIED:20211111T173115Z
UID:7675-1636617600-1637859600@lapuentehome.org
SUMMARY:La Puente's Community Thanksgiving
DESCRIPTION:La Puente’s needs volunteers for our Community Thanksgiving Meal which will take place on Thanksgiving Day\, based out of La Puente’s Shelter. The event will adhere to all COVID-19 health and safety regulations by serving an in-person meal for shelter guests only\, along with to-go meals at the door. This is only made possible with the support of community members who donate their time\, money\, and food. We are currently looking for Turkeys\, Stuffing\, Green Beans\, Mac & Cheese\, Mashed Potatoes\, Rolls\, Cranberry Sauce. If you would like to be part of this year’s celebration call 719-490-8799 or email volunteers@lapuente.net . La Puente is proud to serve in a community that comes together to ensure that we all can enjoy the holiday season.
URL:https://lapuentehome.org/lpevent/la-puentes-community-thanksgiving/
ATTACH;FMTTYPE=image/jpeg:https://lapuentehome.org/wp-content/uploads/2021/11/2-e1636649048734.jpg
END:VEVENT
BEGIN:VEVENT
DTSTART;TZID=America/Denver:20211029T090000
DTEND;TZID=America/Denver:20211029T120000
DTSTAMP:20260422T000537
CREATED:20211027T173442Z
LAST-MODIFIED:20211027T173610Z
UID:6687-1635498000-1635508800@lapuentehome.org
SUMMARY:Halloween Parade Food Drive
DESCRIPTION:The Alamosa Elementary School is once again hosting it’s annual Halloween Food Drive!  As part of La Puente’s largest event every year\, kids from the elementary school get a chance to show off their great costumes and drop off cans of food that is taken to the Food Bank Network and distributed across the Valley.  Feel free to stop by and enjoy thlaughs\, great costumes\, and generous spirits.
URL:https://lapuentehome.org/lpevent/6687/
ATTACH;FMTTYPE=image/jpeg:https://lapuentehome.org/wp-content/uploads/2019/04/IMG_9669-scaled-e1634658295290.jpg
END:VEVENT
BEGIN:VEVENT
DTSTART;TZID=America/Denver:20211018T080000
DTEND;TZID=America/Denver:20211120T170000
DTSTAMP:20260422T000537
CREATED:20211101T163000Z
LAST-MODIFIED:20211109T195907Z
UID:6895-1634544000-1637427600@lapuentehome.org
SUMMARY:Great Thanksgiving Giveaway
DESCRIPTION:Thanksgiving is just around the corner; Take a moment to reflect on your family’s Thanksgiving traditions.  At the Food Bank Network of the San Luis Valley\, we’re hoping to ensure that our patrons are able to share in all these traditions along with us. \nLast year\, we distributed over 700 Thanksgiving boxes during our Great Thanksgiving Giveaway event. Families across the SLV received full Thanksgiving meals including corn\, green beans\, cream of mushroom soup\, stuffing\, cranberry sauce\, canned pumpkin\, canned sweet potatoes\, pie crust\, fresh produce\, and of course\, turkey. \nThis year\, our families have faced unprecedented hardship and economic challenges due to the pandemic\, and the need is greater than ever. \nAt the cost of $27.39\, you can ensure that one family who otherwise could not afford a Thanksgiving meal can celebrate with their loved ones this holiday season.  \nIf you have any questions\, please contact Annalise Baer by calling the Alamosa Food Bank at 719-589-4567 or by emailing director.foodbank@lapuente.net. To donate a Thanksgiving meal\, you can send a check with “Thanksgiving Drive” in the memo to 513 6th St. Alamosa\, CO 81101\, or you can donate online below. \n\n \n\n\n\nThanksgiving Boxes\n\n\nSponsor 1 Family $27.39 USDSponsor 2 Families $54.78 USDSponsor 3 Families $82.17 USDSponsor 4 Families $109.56 USDSponsor 5 Families $136.95 USDSponsor 9 Families $246.51 USDSponsor 18 Families $493.02 USDSponsor 27 Families $739.53 USDSponsor 37 Families $1\,013.43 USD
URL:https://lapuentehome.org/lpevent/thanksgivingdrive2021/
LOCATION:La Puente Home\, 513 6th Ave.\, Alamosa\, CO\, 81101\, United States
ATTACH;FMTTYPE=image/png:https://lapuentehome.org/wp-content/uploads/2019/04/Screen-Shot-2021-10-20-at-3.25.13-PM.png
END:VEVENT
END:VCALENDAR